BEGIN:VCALENDAR
VERSION:2.0
PRODID:-//Schlaraffia-Aquisgranum - ECPv6.15.12.2//NONSGML v1.0//EN
CALSCALE:GREGORIAN
METHOD:PUBLISH
X-WR-CALNAME:Schlaraffia-Aquisgranum
X-ORIGINAL-URL:https://aquisgranum.de
X-WR-CALDESC:Veranstaltungen für Schlaraffia-Aquisgranum
REFRESH-INTERVAL;VALUE=DURATION:PT1H
X-Robots-Tag:noindex
X-PUBLISHED-TTL:PT1H
BEGIN:VTIMEZONE
TZID:Europe/Berlin
BEGIN:DAYLIGHT
TZOFFSETFROM:+0100
TZOFFSETTO:+0200
TZNAME:CEST
DTSTART:20250330T010000
END:DAYLIGHT
BEGIN:STANDARD
TZOFFSETFROM:+0200
TZOFFSETTO:+0100
TZNAME:CET
DTSTART:20251026T010000
END:STANDARD
BEGIN:DAYLIGHT
TZOFFSETFROM:+0100
TZOFFSETTO:+0200
TZNAME:CEST
DTSTART:20260329T010000
END:DAYLIGHT
BEGIN:STANDARD
TZOFFSETFROM:+0200
TZOFFSETTO:+0100
TZNAME:CET
DTSTART:20261025T010000
END:STANDARD
BEGIN:DAYLIGHT
TZOFFSETFROM:+0100
TZOFFSETTO:+0200
TZNAME:CEST
DTSTART:20270328T010000
END:DAYLIGHT
BEGIN:STANDARD
TZOFFSETFROM:+0200
TZOFFSETTO:+0100
TZNAME:CET
DTSTART:20271031T010000
END:STANDARD
END:VTIMEZONE
BEGIN:VEVENT
DTSTART;TZID=Europe/Berlin:20260331T080000
DTEND;TZID=Europe/Berlin:20260331T170000
DTSTAMP:20260420T103016
CREATED:20250707T081825Z
LAST-MODIFIED:20250707T093219Z
UID:4094-1774944000-1774976400@aquisgranum.de
SUMMARY:Ausritt in d.h.R. Duisbargum
DESCRIPTION:Treff und Abfahrt in Aachen nach vorheriger Absprache. \n(Burg ist heute wegen Ausritt geschlossen!)
URL:https://aquisgranum.de/sippung/ausritt-in-d-h-r-duisbargum/
LOCATION:Duisbargum\, Königsberger Allee 49a (Burg Rheintrutz)\, Duisburg\, 47058
CATEGORIES:Ausritt
ATTACH;FMTTYPE=image/png:https://aquisgranum.de/wp-content/uploads/2025/07/Duisbargum-700x400-1.png
END:VEVENT
END:VCALENDAR